BEGIN:VCALENDAR
VERSION:2.0
PRODID:-//wp-events-plugin.com//7.2.3.1//EN
TZID:Europe/Amsterdam
X-WR-TIMEZONE:Europe/Amsterdam
BEGIN:VEVENT
UID:2842@worldglaucomaweek.org
DTSTART;TZID=Europe/Amsterdam;VALUE=DATE:20190301
DTEND;TZID=Europe/Amsterdam;VALUE=DATE:20190401
DTSTAMP:20190310T165027Z
URL:https://www.worldglaucomaweek.org/activity/youtube-channel-opened/
SUMMARY:Youtube channel   opened
DESCRIPTION:To celebrate World Glaucoma Week 2019\, the Central Seoul Eye C
 enter launches the Youtube channel named &lt\;Dr. Choi's Glaucoma.TV&gt\;\
 , which include patient education materials\, educational surgical video c
 lips\, and lecture video clips. Hope the relevant knowledge of glaucoma ca
 n benefit worldwide glaucoma patients and glaucoma specialists.
ATTACH;FMTTYPE=image/jpeg:https://www.worldglaucomaweek.org/wp-content/upl
 oads/2019/03/Screen-Shot-2019-03-11-at-1.48.21-AM.png
CATEGORIES:Public educational
END:VEVENT
BEGIN:VTIMEZONE
TZID:Europe/Amsterdam
X-LIC-LOCATION:Europe/Amsterdam
BEGIN:STANDARD
DTSTART:20181028T020000
TZOFFSETFROM:+0200
TZOFFSETTO:+0100
TZNAME:CET
END:STANDARD
BEGIN:DAYLIGHT
DTSTART:20190331T030000
TZOFFSETFROM:+0100
TZOFFSETTO:+0200
TZNAME:CEST
END:DAYLIGHT
END:VTIMEZONE
END:VCALENDAR