BEGIN:VCALENDAR
VERSION:2.0
PRODID:-//wp-events-plugin.com//7.2.3.1//EN
TZID:Europe/Amsterdam
X-WR-TIMEZONE:Europe/Amsterdam
BEGIN:VEVENT
UID:2983@worldglaucomaweek.org
DTSTART;TZID=Europe/Amsterdam;VALUE=DATE:20190311
DTEND;TZID=Europe/Amsterdam;VALUE=DATE:20190317
DTSTAMP:20190323T110752Z
URL:https://www.worldglaucomaweek.org/activity/world-glaucoma-week-screeni
 ng-educational-events/
SUMMARY:World Glaucoma week screening &amp\; educational events
DESCRIPTION:\n 	A week long free glaucoma screening camp was conducted for 
 family members of glaucoma patients in the glaucoma OPD of Narayana Nethra
 laya (Tertiary eye care centre)\n 	Glaucoma awareness videos in different 
 languages were circulated on social media like Facebook and Youtube. Simil
 ar videos were played on the public address system and televisions in the 
 patient waiting areas to sensitize patients to glaucoma.\n 	Glaucoma scree
 ning for employees of Yes bank\, Prestige group and Allergan was done by t
 he Narayana Nethralaya-2 team and was organized by Allergan on 13th March 
 at their office complex at Kasturba road\, Bangalore. Total number of peop
 le screened were 125\, 28 were advised glasses\, and 22 turned out to be g
 laucoma suspects and were referred to the hospital for detailed evaluation
 .\n 	Glaucoma case study work shop was conducted for comprehensive ophthal
 mologists by Dr. Sushma Tejwani to facilitate the management of glaucoma. 
 The objective of the workshop was to teach appropriate methods of diagnosi
 s of glaucoma &amp\; the preferred approach to management of glaucoma. It 
 also outlined methods to identify disease progression to facilitate early 
 treatment and prevent blindness.\n
ATTACH;FMTTYPE=image/jpeg:https://www.worldglaucomaweek.org/wp-content/upl
 oads/2019/03/Glaucoma-Week-2019.jpg
CATEGORIES:Screening event
LOCATION:Narayana Nethralaya\, 258/A\, Narayana Health City\, Bommasandra\,
  Bangalore\, Karnataka\, 560099\, Bangalore\, India
GEO:12.8159214;77.67938129999993
X-APPLE-STRUCTURED-LOCATION;VALUE=URI;X-ADDRESS=258/A\, Narayana Health Cit
 y\, Bommasandra\, Bangalore\, Karnataka\, 560099\, Bangalore\, India;X-APP
 LE-RADIUS=100;X-TITLE=Narayana Nethralaya:geo:12.8159214,77.67938129999993
END:VEVENT
BEGIN:VTIMEZONE
TZID:Europe/Amsterdam
X-LIC-LOCATION:Europe/Amsterdam
BEGIN:STANDARD
DTSTART:20181028T020000
TZOFFSETFROM:+0200
TZOFFSETTO:+0100
TZNAME:CET
END:STANDARD
END:VTIMEZONE
END:VCALENDAR