BEGIN:VCALENDAR
VERSION:2.0
PRODID:-//wp-events-plugin.com//7.2.3.1//EN
TZID:Europe/Amsterdam
X-WR-TIMEZONE:Europe/Amsterdam
BEGIN:VEVENT
UID:2748@worldglaucomaweek.org
DTSTART;TZID=Europe/Amsterdam:20190310T060000
DTEND;TZID=Europe/Amsterdam:20190316T110000
DTSTAMP:20190308T073632Z
URL:https://www.worldglaucomaweek.org/activity/world-glaucoma-week-padang-
 2019/
SUMMARY:WORLD GLAUCOMA WEEK PADANG 2019
DESCRIPTION:Early detection of Glaucoma in #glaucomaweek event 10-16th Marc
 h 2019 in Padang\, West-Sumatera\, INDONESIA. Don't Forget to Join Us
ATTACH;FMTTYPE=image/jpeg:https://www.worldglaucomaweek.org/wp-content/upl
 oads/2019/03/poster-glaukoma-weeks-ok.jpg
CATEGORIES:Media coverage
LOCATION:CFD KHATIB SULAIMAN\, Jl. Khatib Sulaiman \, Padang\, West Sumater
 a\, 25125\, Sumatera\, Indonesia
GEO:-0.9149094000000001;100.35847939999996
X-APPLE-STRUCTURED-LOCATION;VALUE=URI;X-ADDRESS=Jl. Khatib Sulaiman \, Pada
 ng\, West Sumatera\, 25125\, Sumatera\, Indonesia;X-APPLE-RADIUS=100;X-TIT
 LE=CFD KHATIB SULAIMAN:geo:-0.9149094000000001,100.35847939999996
END:VEVENT
BEGIN:VTIMEZONE
TZID:Europe/Amsterdam
X-LIC-LOCATION:Europe/Amsterdam
BEGIN:STANDARD
DTSTART:20181028T020000
TZOFFSETFROM:+0200
TZOFFSETTO:+0100
TZNAME:CET
END:STANDARD
END:VTIMEZONE
END:VCALENDAR