BEGIN:VCALENDAR
VERSION:2.0
PRODID:-//wp-events-plugin.com//7.2.3.1//EN
TZID:Europe/Amsterdam
X-WR-TIMEZONE:Europe/Amsterdam
BEGIN:VEVENT
UID:2429@worldglaucomaweek.org
DTSTART;TZID=Europe/Amsterdam;VALUE=DATE:20190310
DTEND;TZID=Europe/Amsterdam;VALUE=DATE:20190311
DTSTAMP:20190225T081458Z
URL:https://www.worldglaucomaweek.org/activity/world-glaucoma-week-march-1
 0-16-2019/
SUMMARY:World Glaucoma Week ( March 10-16\, 2019)
DESCRIPTION:Arunodaya Deseret Eye hospital (ADEH) is a community based \, t
 ertiary eye care institute\, located in Gurugram\, haryana\, India.\nThis 
 year too ADEH will celeberate the World Glaucoma Week from March 10-16\, 2
 019\, and the activities will be led by Dr. Sahebaan Sethi\, Glaucoma Cons
 ultant\, ADEH. It will include : (1) Public lecture at our ADEH\, on Glauc
 oma : The silent destroyer of sight ! (2) Eye Care Camp(s) in the rural ar
 eas\, and (3) Quiz Competition on Glaucoma\, amongest school students in s
 elected institutions in Gurugram. more on \; www.actforvision.com \, and w
 ww.adeh.in\n&nbsp\;
CATEGORIES:Public educational
LOCATION:Arunodaya Deseret Eye Hospital (ADEH)\, Plot NH-4\, Sector 55\,\, 
 Gurgaon\, Haryana\, 122011\, Haryana\, India
GEO:28.4278675;77.1088598
X-APPLE-STRUCTURED-LOCATION;VALUE=URI;X-ADDRESS=Plot NH-4\, Sector 55\,\, G
 urgaon\, Haryana\, 122011\, Haryana\, India;X-APPLE-RADIUS=100;X-TITLE=Aru
 nodaya Deseret Eye Hospital (ADEH):geo:28.4278675,77.1088598
END:VEVENT
BEGIN:VTIMEZONE
TZID:Europe/Amsterdam
X-LIC-LOCATION:Europe/Amsterdam
BEGIN:STANDARD
DTSTART:20181028T020000
TZOFFSETFROM:+0200
TZOFFSETTO:+0100
TZNAME:CET
END:STANDARD
END:VTIMEZONE
END:VCALENDAR