BEGIN:VCALENDAR
VERSION:2.0
PRODID:-//wp-events-plugin.com//7.2.3.1//EN
TZID:Europe/Amsterdam
X-WR-TIMEZONE:Europe/Amsterdam
BEGIN:VEVENT
UID:2718@worldglaucomaweek.org
DTSTART;TZID=Europe/Amsterdam:20190311T090000
DTEND;TZID=Europe/Amsterdam:20190315T110000
DTSTAMP:20190307T145914Z
URL:https://www.worldglaucomaweek.org/activity/world-glaucoma-week-lay-for
 um/
SUMMARY:World Glaucoma Week Lay Forum
DESCRIPTION:
CATEGORIES:Public educational
LOCATION:Pangasinan East Eye Center\, Alexander St.\, Urdaneta City\, Panga
 sinan\, Philippines
GEO:15.9758178;120.56720029999997
X-APPLE-STRUCTURED-LOCATION;VALUE=URI;X-ADDRESS=Alexander St.\, Urdaneta Ci
 ty\, Pangasinan\, Philippines;X-APPLE-RADIUS=100;X-TITLE=Pangasinan East E
 ye Center:geo:15.9758178,120.56720029999997
END:VEVENT
BEGIN:VTIMEZONE
TZID:Europe/Amsterdam
X-LIC-LOCATION:Europe/Amsterdam
BEGIN:STANDARD
DTSTART:20181028T020000
TZOFFSETFROM:+0200
TZOFFSETTO:+0100
TZNAME:CET
END:STANDARD
END:VTIMEZONE
END:VCALENDAR