BEGIN:VCALENDAR
VERSION:2.0
PRODID:-//wp-events-plugin.com//7.2.3.1//EN
TZID:Europe/Amsterdam
X-WR-TIMEZONE:Europe/Amsterdam
BEGIN:VEVENT
UID:2723@worldglaucomaweek.org
DTSTART;TZID=Europe/Amsterdam:20190311T110000
DTEND;TZID=Europe/Amsterdam:20190315T130000
DTSTAMP:20190307T151318Z
URL:https://www.worldglaucomaweek.org/activity/world-glaucoma-week-lay-for
 um-6/
SUMMARY:World Glaucoma Week Lay Forum
DESCRIPTION:
CATEGORIES:Public educational
LOCATION:University of the East Ramon Magsaysay Medical Center\, Magsaysay 
 Blvd.\, Sta Mesa\, Quezon City\, Philippines
GEO:14.6021218;121.00903449999998
X-APPLE-STRUCTURED-LOCATION;VALUE=URI;X-ADDRESS=Magsaysay Blvd.\, Sta Mesa\
 , Quezon City\, Philippines;X-APPLE-RADIUS=100;X-TITLE=University of the E
 ast Ramon Magsaysay Medical Center:geo:14.6021218,121.00903449999998
END:VEVENT
BEGIN:VTIMEZONE
TZID:Europe/Amsterdam
X-LIC-LOCATION:Europe/Amsterdam
BEGIN:STANDARD
DTSTART:20181028T020000
TZOFFSETFROM:+0200
TZOFFSETTO:+0100
TZNAME:CET
END:STANDARD
END:VTIMEZONE
END:VCALENDAR