BEGIN:VCALENDAR
VERSION:2.0
PRODID:-//wp-events-plugin.com//7.2.3.1//EN
TZID:Europe/Amsterdam
X-WR-TIMEZONE:Europe/Amsterdam
BEGIN:VEVENT
UID:2891@worldglaucomaweek.org
DTSTART;TZID=Europe/Amsterdam:20190311T093000
DTEND;TZID=Europe/Amsterdam:20190311T110000
DTSTAMP:20190312T142642Z
URL:https://www.worldglaucomaweek.org/activity/world-glaucoma-week-lay-for
 um-23/
SUMMARY:World Glaucoma Week Lay Forum
DESCRIPTION:
CATEGORIES:Public educational
LOCATION:Asian Eye Institute\, Rockwell Dr.\, Makati\, Philippines
GEO:14.5629083;121.03633000000002
X-APPLE-STRUCTURED-LOCATION;VALUE=URI;X-ADDRESS=Rockwell Dr.\, Makati\, Phi
 lippines;X-APPLE-RADIUS=100;X-TITLE=Asian Eye Institute:geo:14.5629083,121
 .03633000000002
END:VEVENT
BEGIN:VTIMEZONE
TZID:Europe/Amsterdam
X-LIC-LOCATION:Europe/Amsterdam
BEGIN:STANDARD
DTSTART:20181028T020000
TZOFFSETFROM:+0200
TZOFFSETTO:+0100
TZNAME:CET
END:STANDARD
END:VTIMEZONE
END:VCALENDAR