BEGIN:VCALENDAR
VERSION:2.0
PRODID:-//wp-events-plugin.com//7.2.3.1//EN
TZID:Europe/Amsterdam
X-WR-TIMEZONE:Europe/Amsterdam
BEGIN:VEVENT
UID:2886@worldglaucomaweek.org
DTSTART;TZID=Europe/Amsterdam:20190312T080000
DTEND;TZID=Europe/Amsterdam:20190312T100000
DTSTAMP:20190312T141954Z
URL:https://www.worldglaucomaweek.org/activity/world-glaucoma-week-lay-for
 um-19/
SUMMARY:World Glaucoma Week Lay Forum
DESCRIPTION:
CATEGORIES:Public educational
LOCATION:Jose B. Lingad Memorial Regional Hospital\, MacArthur Highway\, Sa
 n Fernando City\, Philippines
GEO:15.0593937;120.65670539999996
X-APPLE-STRUCTURED-LOCATION;VALUE=URI;X-ADDRESS=MacArthur Highway\, San Fer
 nando City\, Philippines;X-APPLE-RADIUS=100;X-TITLE=Jose B. Lingad Memoria
 l Regional Hospital:geo:15.0593937,120.65670539999996
END:VEVENT
BEGIN:VTIMEZONE
TZID:Europe/Amsterdam
X-LIC-LOCATION:Europe/Amsterdam
BEGIN:STANDARD
DTSTART:20181028T020000
TZOFFSETFROM:+0200
TZOFFSETTO:+0100
TZNAME:CET
END:STANDARD
END:VTIMEZONE
END:VCALENDAR