BEGIN:VCALENDAR
VERSION:2.0
PRODID:-//wp-events-plugin.com//7.2.3.1//EN
TZID:Europe/Amsterdam
X-WR-TIMEZONE:Europe/Amsterdam
BEGIN:VEVENT
UID:2884@worldglaucomaweek.org
DTSTART;TZID=Europe/Amsterdam:20190312T083000
DTEND;TZID=Europe/Amsterdam:20190312T100000
DTSTAMP:20190312T141708Z
URL:https://www.worldglaucomaweek.org/activity/world-glaucoma-week-lay-for
 um-14/
SUMMARY:World Glaucoma Week Lay Forum
DESCRIPTION:
CATEGORIES:Public educational
LOCATION:Perfect Sight Eye Center\, Golden Acres Rd\, Quezon City\, Philipp
 ines
GEO:14.6578651;121.03098030000001
X-APPLE-STRUCTURED-LOCATION;VALUE=URI;X-ADDRESS=Golden Acres Rd\, Quezon Ci
 ty\, Philippines;X-APPLE-RADIUS=100;X-TITLE=Perfect Sight Eye Center:geo:1
 4.6578651,121.03098030000001
END:VEVENT
BEGIN:VTIMEZONE
TZID:Europe/Amsterdam
X-LIC-LOCATION:Europe/Amsterdam
BEGIN:STANDARD
DTSTART:20181028T020000
TZOFFSETFROM:+0200
TZOFFSETTO:+0100
TZNAME:CET
END:STANDARD
END:VTIMEZONE
END:VCALENDAR