BEGIN:VCALENDAR
VERSION:2.0
PRODID:-//wp-events-plugin.com//7.2.3.1//EN
TZID:Europe/Amsterdam
X-WR-TIMEZONE:Europe/Amsterdam
BEGIN:VEVENT
UID:2735@worldglaucomaweek.org
DTSTART;TZID=Europe/Amsterdam:20190318T130000
DTEND;TZID=Europe/Amsterdam:20190322T143000
DTSTAMP:20190307T155235Z
URL:https://www.worldglaucomaweek.org/activity/world-glaucoma-week-lay-for
 um-13/
SUMMARY:World Glaucoma Week Lay Forum
DESCRIPTION:
CATEGORIES:Public educational
LOCATION:Valdez Hall Veterans Memorial Medical Center\, North Ave.\, Dilima
 n\, Quezon City\, Philippines
GEO:14.6518224;121.04621500000007
X-APPLE-STRUCTURED-LOCATION;VALUE=URI;X-ADDRESS=North Ave.\, Diliman\, Quez
 on City\, Philippines;X-APPLE-RADIUS=100;X-TITLE=Valdez Hall Veterans Memo
 rial Medical Center:geo:14.6518224,121.04621500000007
END:VEVENT
BEGIN:VTIMEZONE
TZID:Europe/Amsterdam
X-LIC-LOCATION:Europe/Amsterdam
BEGIN:STANDARD
DTSTART:20181028T020000
TZOFFSETFROM:+0200
TZOFFSETTO:+0100
TZNAME:CET
END:STANDARD
END:VTIMEZONE
END:VCALENDAR