BEGIN:VCALENDAR
VERSION:2.0
PRODID:-//wp-events-plugin.com//7.2.3.1//EN
TZID:Europe/Amsterdam
X-WR-TIMEZONE:Europe/Amsterdam
BEGIN:VEVENT
UID:2576@worldglaucomaweek.org
DTSTART;TZID=Europe/Amsterdam:20190310T141500
DTEND;TZID=Europe/Amsterdam:20190316T180000
DTSTAMP:20190228T184157Z
URL:https://www.worldglaucomaweek.org/activity/world-glaucoma-week-free-vi
 sion-test-including-iop-optic-nerve-glaucoma-screening-awareness-about-the
 -disease/
SUMMARY:World Glaucoma Week : Free Vision Test including IOP/ Optic nerve .
  Glaucoma Screening\, Awareness about the disease.
DESCRIPTION:مساهمة في اليوم العالمي للكشف المب
 كر\, الوقاية وعلاج مرض الماء الزرقاء\n\nعب
 ر فحص مجاني للنظر يشمل اختبار ضغط العين و
 قاعها
CATEGORIES:Screening event
LOCATION:Dr. Haissam Rafei's Eye Clinic \;  عيادة د.هيثم الرا
 فعي لطب وجراحة العين\, Mohammad Karameh Str.\, Fattal Cen
 ter\; 2nd Fl.\; سنتر فتال \, طابق 2\, بجانب المالي
 ة \, مقابل مستشفى شاهين\, Tripoli طرابلس\, Lebanon 
 لبنان\, Tal  التل\, Lebanon
GEO:34.4379086;35.84067129999994
X-APPLE-STRUCTURED-LOCATION;VALUE=URI;X-ADDRESS=Mohammad Karameh Str.\, Fat
 tal Center 2nd Fl. سنتر فتال \, طابق 2\, بجانب المال
 ية \, مقابل مستشفى شاهين\, Tripoli طرابلس\, Lebano
 n لبنان\, Tal  التل\, Lebanon;X-APPLE-RADIUS=100;X-TITLE=Dr. Hais
 sam Rafei's Eye Clinic ;  عيادة د.هيثم الرافعي لطب و
 جراحة العين:geo:34.4379086,35.84067129999994
END:VEVENT
BEGIN:VTIMEZONE
TZID:Europe/Amsterdam
X-LIC-LOCATION:Europe/Amsterdam
BEGIN:STANDARD
DTSTART:20181028T020000
TZOFFSETFROM:+0200
TZOFFSETTO:+0100
TZNAME:CET
END:STANDARD
END:VTIMEZONE
END:VCALENDAR