BEGIN:VCALENDAR
VERSION:2.0
PRODID:-//wp-events-plugin.com//7.2.3.1//EN
TZID:Europe/Amsterdam
X-WR-TIMEZONE:Europe/Amsterdam
BEGIN:VEVENT
UID:2611@worldglaucomaweek.org
DTSTART;TZID=Europe/Amsterdam:20190311T120000
DTEND;TZID=Europe/Amsterdam:20190315T140000
DTSTAMP:20190305T044500Z
URL:https://www.worldglaucomaweek.org/activity/world-glaucoma-week-free-sc
 reening-sessions-2019/
SUMMARY:World Glaucoma Week Free Screening Sessions 2019
DESCRIPTION:\n 	 Free Public Glaucoma Screening Sessions – Check your eye
 s for Glaucoma\n\nThe Georgetown Public Hospital Corporation (GPHC) in Geo
 rgetown Guyana will be having daily glaucoma screening sessions during Wor
 ld Glaucoma Week - from Monday March 11th to Friday March 15th 12:00hrs to
  14:00hrs at the GPHC\, Eye Clinic. The staff ophthalmologists will be scr
 eening approximately 40 patients per day. Vision testing\, Eye pressure te
 sting and examination of the eye nerve will be done.
ATTACH;FMTTYPE=image/jpeg:https://www.worldglaucomaweek.org/wp-content/upl
 oads/2019/03/Guyana-WGW-2019-Screening-Sessions.jpg
CATEGORIES:Screening event
LOCATION:Georgetown Public Hospital\, East Street\, Georgetown\, Guyana\, 4
 \, Guyana
GEO:6.814505899999999;-58.155974300000025
X-APPLE-STRUCTURED-LOCATION;VALUE=URI;X-ADDRESS=East Street\, Georgetown\, 
 Guyana\, 4\, Guyana;X-APPLE-RADIUS=100;X-TITLE=Georgetown Public Hospital:
 geo:6.814505899999999,-58.155974300000025
END:VEVENT
BEGIN:VTIMEZONE
TZID:Europe/Amsterdam
X-LIC-LOCATION:Europe/Amsterdam
BEGIN:STANDARD
DTSTART:20181028T020000
TZOFFSETFROM:+0200
TZOFFSETTO:+0100
TZNAME:CET
END:STANDARD
END:VTIMEZONE
END:VCALENDAR