BEGIN:VCALENDAR
VERSION:2.0
PRODID:-//wp-events-plugin.com//7.2.3.1//EN
TZID:Europe/Amsterdam
X-WR-TIMEZONE:Europe/Amsterdam
BEGIN:VEVENT
UID:2257@worldglaucomaweek.org
DTSTART;TZID=Europe/Amsterdam:20180314T090000
DTEND;TZID=Europe/Amsterdam:20180314T160000
DTSTAMP:20180317T104251Z
URL:https://www.worldglaucomaweek.org/activity/world-glaucoma-week-celebra
 tion-at-c-h-nagri-eye-hospital/
SUMMARY:WORLD GLAUCOMA WEEK CELEBRATION AT C.H. NAGRI EYE HOSPITAL
DESCRIPTION:#gallery-1 {\nmargin: auto\;\n}\n#gallery-1 .gallery-item {\nfl
 oat: left\;\nmargin-top: 10px\;\ntext-align: center\;\nwidth: 33%\;\n}\n#g
 allery-1 img {\nborder: 2px solid #cfcfcf\;\n}\n#gallery-1 .gallery-captio
 n {\nmargin-left: 0\;\n}\n/* see gallery_shortcode() in wp-includes/media.
 php */\n\n\n 	\n\n\n 	\n\n\n 	\n\n&nbsp\;\n\n 	\n\n\n 	\n\n\n 	\n\n&nbsp\;
 \n\n 	\n\n\n 	\n\n\n 	\n\n&nbsp\;\n\n 	\n\n\n 	\n\n\n 	\n\n&nbsp\;\n\n 	\n
 \n\n 	\n\n\n 	\n\n&nbsp\;\n\n 	\n\n\n 	\n\n\n 	\n\n&nbsp\;\n\n 	\n\n\n 	\n
 \n\n 	\n\n&nbsp\;\n\n 	\n\n\n 	\n\n\n 	\n\n&nbsp\;\n\n 	\n\n\n 	\n\n\n 	\n
 \n&nbsp\;\n\n 	\n\n\n 	\n\n\n 	\n\n&nbsp\;\n\n 	\n\n\n 	\n\n\n 	\n\n&nbsp\
 ;\n\n 	\n\n\n 	\n\n\n 	\n\n&nbsp\;\n\n 	\n\n\n 	\n\n\n 	\n\n&nbsp\;\n\n 	\
 n\n&nbsp\;\n\n\n#gallery-2 {\nmargin: auto\;\n}\n#gallery-2 .gallery-item 
 {\nfloat: left\;\nmargin-top: 10px\;\ntext-align: center\;\nwidth: 33%\;\n
 }\n#gallery-2 img {\nborder: 2px solid #cfcfcf\;\n}\n#gallery-2 .gallery-c
 aption {\nmargin-left: 0\;\n}\n/* see gallery_shortcode() in wp-includes/m
 edia.php */\n\n\n 	\n\n\n 	\n\n\n 	\n\n&nbsp\;\n\n 	\n\n\n 	\n\n\n 	\n\n&n
 bsp\;\n\n 	\n\n\n 	\n\n\n 	\n\n&nbsp\;\n\n 	\n\n\n 	\n\n\n 	\n\n&nbsp\;\n\
 n 	\n\n\n 	\n\n\n 	\n\n&nbsp\;\n\n 	\n\n\n 	\n\n\n 	\n\n&nbsp\;\n\n 	\n\n\
 n 	\n\n\n 	\n\n&nbsp\;\n\n 	\n\n\n 	\n\n\n 	\n\n&nbsp\;\n\n 	\n\n\n 	\n\n\
 n 	\n\n&nbsp\;\n\n 	\n\n\n 	\n\n\n 	\n\n&nbsp\;\n\n 	\n\n\n 	\n\n\n 	\n\n&
 nbsp\;\n\n 	\n\n\n 	\n\n\n 	\n\n&nbsp\;\n\n 	\n\n\n 	\n\n\n 	\n\n&nbsp\;\n
 \n 	\n\n&nbsp\;\n\n
ATTACH;FMTTYPE=image/jpeg:https://www.worldglaucomaweek.org/wp-content/upl
 oads/2018/03/DSC_0883-2.jpg
CATEGORIES:Public educational
LOCATION:C. H. Nagri Eye Hospital\, Near Rastya Bhasha College\, Rasala Mar
 g\, Ellise Bridge\, Ahmedabad\, Gujarat\, Ahmedabad\, 380006\, Asia\, Indi
 a
GEO:23.0257469;72.56689289999997
X-APPLE-STRUCTURED-LOCATION;VALUE=URI;X-ADDRESS=Near Rastya Bhasha College\
 , Rasala Marg\, Ellise Bridge\, Ahmedabad\, Gujarat\, Ahmedabad\, 380006\,
  Asia\, India;X-APPLE-RADIUS=100;X-TITLE=C. H. Nagri Eye Hospital:geo:23.0
 257469,72.56689289999997
END:VEVENT
BEGIN:VTIMEZONE
TZID:Europe/Amsterdam
X-LIC-LOCATION:Europe/Amsterdam
BEGIN:STANDARD
DTSTART:20171029T020000
TZOFFSETFROM:+0200
TZOFFSETTO:+0100
TZNAME:CET
END:STANDARD
END:VTIMEZONE
END:VCALENDAR