BEGIN:VCALENDAR
VERSION:2.0
PRODID:-//wp-events-plugin.com//7.2.3.1//EN
TZID:Europe/Amsterdam
X-WR-TIMEZONE:Europe/Amsterdam
BEGIN:VEVENT
UID:2216@worldglaucomaweek.org
DTSTART;TZID=Europe/Amsterdam;VALUE=DATE:20180314
DTEND;TZID=Europe/Amsterdam;VALUE=DATE:20180317
DTSTAMP:20180314T213453Z
URL:https://www.worldglaucomaweek.org/activity/world-glaucoma-week-awarene
 ss/
SUMMARY:World Glaucoma Week Awareness
DESCRIPTION:\n\nI have created a series of social media posts to inform the
  Bulgarian population about the risks asociated with glaucoma.\n\nYou can 
 read and share my article:\nhttps://goo.gl/YH4Cyn\n\nI have established a 
 channel for free questions and consultations via email:\nochnozdrave@gmail
 .com\n\n\n\nBest regards\,\nAtanas Bogoev MD.\n\n&nbsp\;
ATTACH;FMTTYPE=image/jpeg:https://www.worldglaucomaweek.org/wp-content/upl
 oads/2018/03/glaucoma-cover-1-1.jpg
CATEGORIES:Media coverage
LOCATION:Ochno Zdrave\, bul. Bulgaria\, Sofia\, Bulgaria
GEO:42.6977082;23.321867500000053
X-APPLE-STRUCTURED-LOCATION;VALUE=URI;X-ADDRESS=bul. Bulgaria\, Sofia\, Bul
 garia;X-APPLE-RADIUS=100;X-TITLE=Ochno Zdrave:geo:42.6977082,23.3218675000
 00053
END:VEVENT
BEGIN:VTIMEZONE
TZID:Europe/Amsterdam
X-LIC-LOCATION:Europe/Amsterdam
BEGIN:STANDARD
DTSTART:20171029T020000
TZOFFSETFROM:+0200
TZOFFSETTO:+0100
TZNAME:CET
END:STANDARD
END:VTIMEZONE
END:VCALENDAR