BEGIN:VCALENDAR
VERSION:2.0
PRODID:-//wp-events-plugin.com//7.2.3.1//EN
TZID:Europe/Amsterdam
X-WR-TIMEZONE:Europe/Amsterdam
BEGIN:VEVENT
UID:2939@worldglaucomaweek.org
DTSTART;TZID=Europe/Amsterdam:20190310T000000
DTEND;TZID=Europe/Amsterdam:20190310T000000
DTSTAMP:20190314T172149Z
URL:https://www.worldglaucomaweek.org/activity/world-glaucoma-week-awarene
 ss-2/
SUMMARY:World Glaucoma Week Awareness
DESCRIPTION:We are proud to support the World Glaucoma Week initiative! Our
  offices are decorated and employees globally are wearing green to encoura
 ge people to go get their eyes checked to help Beat Invisible Glaucoma!
ATTACH;FMTTYPE=image/jpeg:https://www.worldglaucomaweek.org/wp-content/upl
 oads/2019/03/WGW-smaller.jpg
CATEGORIES:Awareness
END:VEVENT
BEGIN:VTIMEZONE
TZID:Europe/Amsterdam
X-LIC-LOCATION:Europe/Amsterdam
BEGIN:STANDARD
DTSTART:20181028T020000
TZOFFSETFROM:+0200
TZOFFSETTO:+0100
TZNAME:CET
END:STANDARD
END:VTIMEZONE
END:VCALENDAR