BEGIN:VCALENDAR
VERSION:2.0
PRODID:-//wp-events-plugin.com//7.2.3.1//EN
TZID:Europe/Amsterdam
X-WR-TIMEZONE:Europe/Amsterdam
BEGIN:VEVENT
UID:2016@worldglaucomaweek.org
DTSTART;TZID=Europe/Amsterdam:20180307T080000
DTEND;TZID=Europe/Amsterdam:20180316T154500
DTSTAMP:20180309T152017Z
URL:https://www.worldglaucomaweek.org/activity/world-glaucoma-week-8/
SUMMARY:World Glaucoma Week
DESCRIPTION:Instituto Regional de Oftalmologia \nTrujillo \nPERU 
CATEGORIES:Media coverage
LOCATION:IRO\, América Oeste s/n Mz P lote 7a\, Trujillo \, La Libertad\, 
 Peru
GEO:-8.1140896;-79.04294060000001
X-APPLE-STRUCTURED-LOCATION;VALUE=URI;X-ADDRESS=América Oeste s/n Mz P lot
 e 7a\, Trujillo \, La Libertad\, Peru;X-APPLE-RADIUS=100;X-TITLE=IRO:geo:-
 8.1140896,-79.04294060000001
END:VEVENT
BEGIN:VTIMEZONE
TZID:Europe/Amsterdam
X-LIC-LOCATION:Europe/Amsterdam
BEGIN:STANDARD
DTSTART:20171029T020000
TZOFFSETFROM:+0200
TZOFFSETTO:+0100
TZNAME:CET
END:STANDARD
END:VTIMEZONE
END:VCALENDAR