BEGIN:VCALENDAR
VERSION:2.0
PRODID:-//wp-events-plugin.com//7.2.3.1//EN
TZID:Europe/Amsterdam
X-WR-TIMEZONE:Europe/Amsterdam
BEGIN:VEVENT
UID:1513@worldglaucomaweek.org
DTSTART;TZID=Europe/Amsterdam;VALUE=DATE:20180311
DTEND;TZID=Europe/Amsterdam;VALUE=DATE:20180318
DTSTAMP:20180112T104149Z
URL:https://www.worldglaucomaweek.org/activity/world-glaucoma-week-6/
SUMMARY:World Glaucoma Week
DESCRIPTION:
CATEGORIES:Other
LOCATION:Times Square\, Times Square\, New York\, United States
GEO:40.759011;-73.98447220000003
X-APPLE-STRUCTURED-LOCATION;VALUE=URI;X-ADDRESS=Times Square\, New York\, U
 nited States;X-APPLE-RADIUS=100;X-TITLE=Times Square:geo:40.759011,-73.984
 47220000003
END:VEVENT
BEGIN:VTIMEZONE
TZID:Europe/Amsterdam
X-LIC-LOCATION:Europe/Amsterdam
BEGIN:STANDARD
DTSTART:20171029T020000
TZOFFSETFROM:+0200
TZOFFSETTO:+0100
TZNAME:CET
END:STANDARD
END:VTIMEZONE
END:VCALENDAR