BEGIN:VCALENDAR
VERSION:2.0
PRODID:-//wp-events-plugin.com//7.2.3.1//EN
TZID:Europe/Amsterdam
X-WR-TIMEZONE:Europe/Amsterdam
BEGIN:VEVENT
UID:4326@worldglaucomaweek.org
DTSTART:20210310T040000Z
DTEND:20210310T090000Z
DTSTAMP:20210316T170718Z
URL:https://www.worldglaucomaweek.org/activity/world-glaucoma-week-2021-3/
SUMMARY:"World Glaucoma Week 2021"
DESCRIPTION:Impact Foundation Bangladesh has launched a special campaign to
  celebrate "World Glaucoma Week 2021" in collaboration with Bangladesh Gla
 ucoma Society at Impact Masudul Haque Memorial Health Care Centre\, Chuada
 nga. The event was organised attended by IFB staff members\, local communi
 ty members and a number of glaucoma patients to raise awareness on Glaucom
 a with the slogan of "THE WORLD IS BRIGHT\, SAVE YOUR SIGHT"
ATTACH;FMTTYPE=image/jpeg:https://www.worldglaucomaweek.org/wp-content/upl
 oads/2021/03/IMG-20210311-WA0006.jpg
CATEGORIES:Awareness
LOCATION:Chuadanga\, Impact Masudul Haque Memorial Community Health Centre\
 , Chuadanga\, Bangladesh
GEO:23.638681;88.836895
X-APPLE-STRUCTURED-LOCATION;VALUE=URI;X-ADDRESS=Impact Masudul Haque Memori
 al Community Health Centre\, Chuadanga\, Bangladesh;X-APPLE-RADIUS=100;X-T
 ITLE=Chuadanga:geo:23.638681,88.836895
END:VEVENT
END:VCALENDAR