BEGIN:VCALENDAR
VERSION:2.0
PRODID:-//wp-events-plugin.com//7.2.3.1//EN
TZID:Europe/Amsterdam
X-WR-TIMEZONE:Europe/Amsterdam
BEGIN:VEVENT
UID:2329@worldglaucomaweek.org
DTSTART;TZID=Europe/Amsterdam;VALUE=DATE:20190313
DTEND;TZID=Europe/Amsterdam;VALUE=DATE:20190318
DTSTAMP:20190213T230047Z
URL:https://www.worldglaucomaweek.org/activity/world-glaucoma-week-2019-be
 lo-horizonte/
SUMMARY:World Glaucoma Week 2019 Belo Horizonte
DESCRIPTION:The activities will be held at the Pampulha Campus ofFederal Un
 iversity of Minas Gerais (UFMG)\, the "Espaço do Conhecimento" of UFMG an
 d the Liberdade squares in Belo Horizonte. The activities will involve eas
 y language for the general public\, from children to the elderly\, who are
  among the population most at risk of developing the disease. Professors\,
  undergraduate students\, graduate students and physicians will be respons
 ible for the development of the activities. The activities will involve th
 e use of exhibition materials such as panels\, three-dimensional models of
  the eye\, retina and cells\, leaflets\, audiovisual and multimedia resour
 ces\, games and tests. Lectures and / or debates on the subject will be gi
 ven by professors and / or health professionals.\n\nWe will provide partic
 ipants with the opportunity to know\, in a synthetic way\, some aspects of
  vision functioning\, what is glaucoma\, what are its risk factors and the
  importance of performing tests for the early diagnosis of the disease. In
  addition\, we will show the latest advances and discoveries in science pe
 rformed at the UFMG about glaucoma.\n\n&nbsp\;\n\n&nbsp\;
CATEGORIES:Public educational
LOCATION:Espaço do Conhecimento UFMG\, Praça da Liberdade\, 700\, Belo Ho
 rizonte\, Minas Gerais\, 30140-010\, Brazil
GEO:-19.9320447;-43.93738559999997
X-APPLE-STRUCTURED-LOCATION;VALUE=URI;X-ADDRESS=Praça da Liberdade\, 700\,
  Belo Horizonte\, Minas Gerais\, 30140-010\, Brazil;X-APPLE-RADIUS=100;X-T
 ITLE=Espaço do Conhecimento UFMG:geo:-19.9320447,-43.93738559999997
END:VEVENT
BEGIN:VTIMEZONE
TZID:Europe/Amsterdam
X-LIC-LOCATION:Europe/Amsterdam
BEGIN:STANDARD
DTSTART:20181028T020000
TZOFFSETFROM:+0200
TZOFFSETTO:+0100
TZNAME:CET
END:STANDARD
END:VTIMEZONE
END:VCALENDAR