BEGIN:VCALENDAR
VERSION:2.0
PRODID:-//wp-events-plugin.com//7.2.3.1//EN
TZID:Europe/Amsterdam
X-WR-TIMEZONE:Europe/Amsterdam
BEGIN:VEVENT
UID:2306@worldglaucomaweek.org
DTSTART;TZID=Europe/Amsterdam:20180323T000000
DTEND;TZID=Europe/Amsterdam:20180324T000000
DTSTAMP:20180324T073605Z
URL:https://www.worldglaucomaweek.org/activity/world-glaucoma-week-20018/
SUMMARY:World glaucoma week 20018
DESCRIPTION:World glaucoma week 20018\nEducation by dr lydia nuradianti &am
 p\; dr dewi rosarina from glaucoma division undaan eye hospital\n\nRs mata
  undaan \nUndaan kulon 19\nSurabaya\nJawa timur-indonesia
ATTACH;FMTTYPE=image/jpeg:https://www.worldglaucomaweek.org/wp-content/upl
 oads/2018/03/522980E5-0F9B-401C-AFB0-F52B9841B337.jpeg
CATEGORIES:Media coverage
END:VEVENT
BEGIN:VTIMEZONE
TZID:Europe/Amsterdam
X-LIC-LOCATION:Europe/Amsterdam
BEGIN:STANDARD
DTSTART:20171029T020000
TZOFFSETFROM:+0200
TZOFFSETTO:+0100
TZNAME:CET
END:STANDARD
END:VTIMEZONE
END:VCALENDAR