BEGIN:VCALENDAR
VERSION:2.0
PRODID:-//wp-events-plugin.com//7.2.3.1//EN
TZID:Europe/Amsterdam
X-WR-TIMEZONE:Europe/Amsterdam
BEGIN:VEVENT
UID:2235@worldglaucomaweek.org
DTSTART;TZID=Europe/Amsterdam:20180315T091500
DTEND;TZID=Europe/Amsterdam:20180315T141500
DTSTAMP:20180316T083726Z
URL:https://www.worldglaucomaweek.org/activity/world-glaucoma-week-10/
SUMMARY:World Glaucoma week
DESCRIPTION:\nבית חולים ציבורי אסותא אשדוד\n\nשד
 רות הרפואה\n\nאשדוד
CATEGORIES:Screening event
LOCATION:Assutta Ashdod\, Harefuha st\, ashdod\, Israel\, 780000\, Israel
X-APPLE-STRUCTURED-LOCATION;VALUE=URI;X-ADDRESS=Harefuha st\, ashdod\, Isra
 el\, 780000\, Israel;X-APPLE-RADIUS=100;X-TITLE=Assutta Ashdod:geo:0,0
END:VEVENT
BEGIN:VTIMEZONE
TZID:Europe/Amsterdam
X-LIC-LOCATION:Europe/Amsterdam
BEGIN:STANDARD
DTSTART:20171029T020000
TZOFFSETFROM:+0200
TZOFFSETTO:+0100
TZNAME:CET
END:STANDARD
END:VTIMEZONE
END:VCALENDAR