BEGIN:VCALENDAR
VERSION:2.0
PRODID:-//wp-events-plugin.com//7.2.3.1//EN
TZID:Europe/Amsterdam
X-WR-TIMEZONE:Europe/Amsterdam
BEGIN:VEVENT
UID:1771@worldglaucomaweek.org
DTSTART;TZID=Europe/Amsterdam:20180311T120000
DTEND;TZID=Europe/Amsterdam:20180311T160000
DTSTAMP:20180227T105707Z
URL:https://www.worldglaucomaweek.org/activity/world-glaucoma-day-pozareva
 c/
SUMMARY:World Glaucoma Day Pozarevac
DESCRIPTION:Education of patients (short video) measurement of IOP.
CATEGORIES:Public educational
LOCATION:General Hospital Pozarevac\, Bratstva jedinstva 135\, Požarevac\,
  Srbija\, 12000\, Braničevo\, Serbia
GEO:44.6314301;21.187049600000023
X-APPLE-STRUCTURED-LOCATION;VALUE=URI;X-ADDRESS=Bratstva jedinstva 135\, Po
 žarevac\, Srbija\, 12000\, Braničevo\, Serbia;X-APPLE-RADIUS=100;X-TITLE
 =General Hospital Pozarevac:geo:44.6314301,21.187049600000023
END:VEVENT
BEGIN:VTIMEZONE
TZID:Europe/Amsterdam
X-LIC-LOCATION:Europe/Amsterdam
BEGIN:STANDARD
DTSTART:20171029T020000
TZOFFSETFROM:+0200
TZOFFSETTO:+0100
TZNAME:CET
END:STANDARD
END:VTIMEZONE
END:VCALENDAR