BEGIN:VCALENDAR
VERSION:2.0
PRODID:-//wp-events-plugin.com//7.2.3.1//EN
TZID:Europe/Amsterdam
X-WR-TIMEZONE:Europe/Amsterdam
BEGIN:VEVENT
UID:2564@worldglaucomaweek.org
DTSTART;TZID=Europe/Amsterdam;VALUE=DATE:20190310
DTEND;TZID=Europe/Amsterdam;VALUE=DATE:20190311
DTSTAMP:20190227T021418Z
URL:https://www.worldglaucomaweek.org/activity/world-glaucoma-day-fm-stati
 on-awareness-program/
SUMMARY:World Glaucoma Day FM Station Awareness Program
DESCRIPTION:
ATTACH;FMTTYPE=image/jpeg:https://www.worldglaucomaweek.org/wp-content/upl
 oads/2019/02/Fever_FM_WGD.jpg
CATEGORIES:Media coverage
LOCATION:Hyderabad\, LV Prasad Marg\, Road # 2\, Banjara Hills\, Hyderabad\
 , Telangana\, 500034\, South\, India
GEO:17.4230555;78.42654219999997
X-APPLE-STRUCTURED-LOCATION;VALUE=URI;X-ADDRESS=LV Prasad Marg\, Road # 2\,
  Banjara Hills\, Hyderabad\, Telangana\, 500034\, South\, India;X-APPLE-RA
 DIUS=100;X-TITLE=Hyderabad:geo:17.4230555,78.42654219999997
END:VEVENT
BEGIN:VTIMEZONE
TZID:Europe/Amsterdam
X-LIC-LOCATION:Europe/Amsterdam
BEGIN:STANDARD
DTSTART:20181028T020000
TZOFFSETFROM:+0200
TZOFFSETTO:+0100
TZNAME:CET
END:STANDARD
END:VTIMEZONE
END:VCALENDAR