BEGIN:VCALENDAR
VERSION:2.0
PRODID:-//wp-events-plugin.com//7.2.3.1//EN
TZID:Europe/Amsterdam
X-WR-TIMEZONE:Europe/Amsterdam
BEGIN:VEVENT
UID:2323@worldglaucomaweek.org
DTSTART;TZID=Europe/Amsterdam;VALUE=DATE:20190327
DTEND;TZID=Europe/Amsterdam;VALUE=DATE:20190331
DTSTAMP:20190201T150201Z
URL:https://www.worldglaucomaweek.org/activity/world-glaucoma-congress-201
 9/
SUMMARY:World Glaucoma Congress 2019
DESCRIPTION:A globally diverse faculty of experts in glaucoma research and 
 clinical practice will come together to share their knowledge and insight 
 in Melbourne\, Australia\, from March 27-30\, 2019.\n\nWe welcome you to j
 oin participants from more than 75 different countries and be a part of th
 e principal congress focused on the education of glaucoma.\n\nScientific s
 essions will include 21 symposiums\, 24 courses\, grand rounds\, film fest
 ival\, rapid fire presentations and the largest surgical wetlabs in the fi
 eld of glaucoma. The WGC will also feature several symposia organized by t
 he society members of WGA.
ATTACH;FMTTYPE=image/jpeg:https://www.worldglaucomaweek.org/wp-content/upl
 oads/2019/02/WGC-2019-logo_sunkoala.jpg
CATEGORIES:Public educational
LOCATION:Melbourne Convention and Exhibition Centre\, 1 Convention Centre P
 lace\, Melbourne\, 3006\, Australia
X-APPLE-STRUCTURED-LOCATION;VALUE=URI;X-ADDRESS=1 Convention Centre Place\,
  Melbourne\, 3006\, Australia;X-APPLE-RADIUS=100;X-TITLE=Melbourne Convent
 ion and Exhibition Centre:geo:0,0
END:VEVENT
BEGIN:VTIMEZONE
TZID:Europe/Amsterdam
X-LIC-LOCATION:Europe/Amsterdam
BEGIN:STANDARD
DTSTART:20181028T020000
TZOFFSETFROM:+0200
TZOFFSETTO:+0100
TZNAME:CET
END:STANDARD
END:VTIMEZONE
END:VCALENDAR