BEGIN:VCALENDAR
VERSION:2.0
PRODID:-//wp-events-plugin.com//7.2.3.1//EN
TZID:Europe/Amsterdam
X-WR-TIMEZONE:Europe/Amsterdam
BEGIN:VEVENT
UID:2206@worldglaucomaweek.org
DTSTART;TZID=Europe/Amsterdam:20180314T193000
DTEND;TZID=Europe/Amsterdam:20180314T203000
DTSTAMP:20180314T153026Z
URL:https://www.worldglaucomaweek.org/activity/workshop/
SUMMARY:Workshop
DESCRIPTION:Workshop: Saber mais sobre o Glaucoma\n\nDATA: 14 março 2018\,
  quarta-feira\nHORÁRIO: às 19h30\nLOCAL: Trofa Saúde Hospital em Braga 
 Centro\, Auditório\, piso 6\n\nPROGRAMA\n19h30 - "Saber mais sobre o Glau
 coma"\, Dr. Fernando Silva (OM35778) - Oftalmologista\n\nDESTINATÁRIOS\nP
 úblico em geral\, em especial pessoas com glaucoma\, quem tem a seu cargo
  doentes com glaucoma ou quem se queira informar mais sobre esta doença.\
 n\nINSCRIÇÕES GRATUITAS E OBRIGATÓRIAS:\nMencionando os seguintes dados
  pessoais: nome\, email\, localidade e telefone\n. Por e-mail para: info@b
 ragacentro.trofasaude.com\n. Através do número 253 140 700\n. Na receç
 ão do nosso hospital
ATTACH;FMTTYPE=image/jpeg:https://www.worldglaucomaweek.org/wp-content/upl
 oads/2018/03/FB-WS-Glaucoma-TSHBC.png
CATEGORIES:Public educational
LOCATION:Trofa Saúde Hospital em Braga Centro\, Rua do Raio\, 165\, Braga\
 , Portugal\, 4710-923\, Portugal
GEO:41.5501236;-8.419556599999964
X-APPLE-STRUCTURED-LOCATION;VALUE=URI;X-ADDRESS=Rua do Raio\, 165\, Braga\,
  Portugal\, 4710-923\, Portugal;X-APPLE-RADIUS=100;X-TITLE=Trofa Saúde Ho
 spital em Braga Centro:geo:41.5501236,-8.419556599999964
END:VEVENT
BEGIN:VTIMEZONE
TZID:Europe/Amsterdam
X-LIC-LOCATION:Europe/Amsterdam
BEGIN:STANDARD
DTSTART:20171029T020000
TZOFFSETFROM:+0200
TZOFFSETTO:+0100
TZNAME:CET
END:STANDARD
END:VTIMEZONE
END:VCALENDAR