BEGIN:VCALENDAR
VERSION:2.0
PRODID:-//wp-events-plugin.com//7.2.3.1//EN
TZID:Europe/Amsterdam
X-WR-TIMEZONE:Europe/Amsterdam
BEGIN:VEVENT
UID:2694@worldglaucomaweek.org
DTSTART;TZID=Europe/Amsterdam;VALUE=DATE:20190312
DTEND;TZID=Europe/Amsterdam;VALUE=DATE:20190317
DTSTAMP:20190306T144552Z
URL:https://www.worldglaucomaweek.org/activity/workshop-with-patients/
SUMMARY:Workshop with patients
DESCRIPTION:The bilding will use green lights at night end we will do a wor
 kshop to glaucoma patients with some food.
CATEGORIES:Public educational
LOCATION:H Olhos Grottone\, Rua Bento de Abreu\, 20\, Santos\, Sao Paulo\, 
 Sudeste\, Brazil
GEO:-23.9665961;-46.3204523
X-APPLE-STRUCTURED-LOCATION;VALUE=URI;X-ADDRESS=Rua Bento de Abreu\, 20\, S
 antos\, Sao Paulo\, Sudeste\, Brazil;X-APPLE-RADIUS=100;X-TITLE=H Olhos Gr
 ottone:geo:-23.9665961,-46.3204523
END:VEVENT
BEGIN:VTIMEZONE
TZID:Europe/Amsterdam
X-LIC-LOCATION:Europe/Amsterdam
BEGIN:STANDARD
DTSTART:20181028T020000
TZOFFSETFROM:+0200
TZOFFSETTO:+0100
TZNAME:CET
END:STANDARD
END:VTIMEZONE
END:VCALENDAR