BEGIN:VCALENDAR
VERSION:2.0
PRODID:-//wp-events-plugin.com//7.2.3.1//EN
TZID:Europe/Amsterdam
X-WR-TIMEZONE:Europe/Amsterdam
BEGIN:VEVENT
UID:1778@worldglaucomaweek.org
DTSTART;TZID=Europe/Amsterdam:20180315T090000
DTEND;TZID=Europe/Amsterdam:20180315T120000
DTSTAMP:20180311T020900Z
URL:https://www.worldglaucomaweek.org/activity/workshop-glaucoma-screening
 -for-gp/
SUMMARY:Workshop glaucoma screening for GP
DESCRIPTION:
CATEGORIES:Other
LOCATION:RSCM Kirana\, jl. Kimia 8\, Jakarta Pusat\, Jakarta\, Indonesia
GEO:-6.1982386;106.84454040000003
X-APPLE-STRUCTURED-LOCATION;VALUE=URI;X-ADDRESS=jl. Kimia 8\, Jakarta Pusat
 \, Jakarta\, Indonesia;X-APPLE-RADIUS=100;X-TITLE=RSCM Kirana:geo:-6.19823
 86,106.84454040000003
END:VEVENT
BEGIN:VTIMEZONE
TZID:Europe/Amsterdam
X-LIC-LOCATION:Europe/Amsterdam
BEGIN:STANDARD
DTSTART:20171029T020000
TZOFFSETFROM:+0200
TZOFFSETTO:+0100
TZNAME:CET
END:STANDARD
END:VTIMEZONE
END:VCALENDAR