BEGIN:VCALENDAR
VERSION:2.0
PRODID:-//wp-events-plugin.com//7.2.3.1//EN
TZID:Europe/Amsterdam
X-WR-TIMEZONE:Europe/Amsterdam
BEGIN:VEVENT
UID:2625@worldglaucomaweek.org
DTSTART;TZID=Europe/Amsterdam;VALUE=DATE:20190315
DTEND;TZID=Europe/Amsterdam;VALUE=DATE:20190316
DTSTAMP:20190305T111203Z
URL:https://www.worldglaucomaweek.org/activity/wirld-glaucoma-week/
SUMMARY:Wirld glaucoma week
DESCRIPTION:
CATEGORIES:Media coverage
LOCATION:Porto\, Rua flor do campo\, Santo Tirso \, Portugal
GEO:41.3661163;-8.351960100000042
X-APPLE-STRUCTURED-LOCATION;VALUE=URI;X-ADDRESS=Rua flor do campo\, Santo T
 irso \, Portugal;X-APPLE-RADIUS=100;X-TITLE=Porto:geo:41.3661163,-8.351960
 100000042
END:VEVENT
BEGIN:VTIMEZONE
TZID:Europe/Amsterdam
X-LIC-LOCATION:Europe/Amsterdam
BEGIN:STANDARD
DTSTART:20181028T020000
TZOFFSETFROM:+0200
TZOFFSETTO:+0100
TZNAME:CET
END:STANDARD
END:VTIMEZONE
END:VCALENDAR