BEGIN:VCALENDAR
VERSION:2.0
PRODID:-//wp-events-plugin.com//7.2.3.1//EN
TZID:Europe/Amsterdam
X-WR-TIMEZONE:Europe/Amsterdam
BEGIN:VEVENT
UID:509@worldglaucomaweek.org
DTSTART;TZID=Europe/Amsterdam:20150310T080000
DTEND;TZID=Europe/Amsterdam:20150310T150000
DTSTAMP:20150424T142859Z
URL:https://www.worldglaucomaweek.org/activity/wgw-screening-trinidad-and-
 tobago-police-service-south/
SUMMARY:WGW Screening  Trinidad and Tobago Police Service South
DESCRIPTION:
CATEGORIES:Screening event
LOCATION:Hayden Manwarring Theater\, Admin Building\, San Fernando\, Trinid
 ad and Tobago
GEO:10.278532879471618;-61.46606993806154
X-APPLE-STRUCTURED-LOCATION;VALUE=URI;X-ADDRESS=Admin Building\, San Fernan
 do\, Trinidad and Tobago;X-APPLE-RADIUS=100;X-TITLE=Hayden Manwarring Thea
 ter:geo:10.278532879471618,-61.46606993806154
END:VEVENT
BEGIN:VTIMEZONE
TZID:Europe/Amsterdam
X-LIC-LOCATION:Europe/Amsterdam
BEGIN:STANDARD
DTSTART:20141026T020000
TZOFFSETFROM:+0200
TZOFFSETTO:+0100
TZNAME:CET
END:STANDARD
END:VTIMEZONE
END:VCALENDAR