BEGIN:VCALENDAR
VERSION:2.0
PRODID:-//wp-events-plugin.com//7.2.3.1//EN
TZID:Europe/Amsterdam
X-WR-TIMEZONE:Europe/Amsterdam
BEGIN:VEVENT
UID:1642@worldglaucomaweek.org
DTSTART;TZID=Europe/Amsterdam:20180208T170000
DTEND;TZID=Europe/Amsterdam:20180208T180000
DTSTAMP:20180212T082333Z
URL:https://www.worldglaucomaweek.org/activity/wgw-promotion-lecture-to-uw
 i-optometry-students/
SUMMARY:WGW Promotion Lecture to UWI Optometry students
DESCRIPTION:
CATEGORIES:Other
LOCATION:Optometry Clinic\, Gordon St\, St.Augustine\, Trinidad and Tobago
GEO:10.6473412;-61.39977729999998
X-APPLE-STRUCTURED-LOCATION;VALUE=URI;X-ADDRESS=Gordon St\, St.Augustine\, 
 Trinidad and Tobago;X-APPLE-RADIUS=100;X-TITLE=Optometry Clinic:geo:10.647
 3412,-61.39977729999998
END:VEVENT
BEGIN:VTIMEZONE
TZID:Europe/Amsterdam
X-LIC-LOCATION:Europe/Amsterdam
BEGIN:STANDARD
DTSTART:20171029T020000
TZOFFSETFROM:+0200
TZOFFSETTO:+0100
TZNAME:CET
END:STANDARD
END:VTIMEZONE
END:VCALENDAR