BEGIN:VCALENDAR
VERSION:2.0
PRODID:-//wp-events-plugin.com//7.2.3.1//EN
TZID:Europe/Amsterdam
X-WR-TIMEZONE:Europe/Amsterdam
BEGIN:VEVENT
UID:2086@worldglaucomaweek.org
DTSTART;TZID=Europe/Amsterdam:20180312T070000
DTEND;TZID=Europe/Amsterdam:20180312T080000
DTSTAMP:20180312T104025Z
URL:https://www.worldglaucomaweek.org/activity/wgw-glaucoma-surgery/
SUMMARY:WGW Glaucoma Surgery
DESCRIPTION:  
CATEGORIES:Media coverage
LOCATION:Makati Medical Center\, No. 2 Amorsolo St\, Legaspi Village\, Maka
 ti City\, NCR\, Philippines
GEO:14.559355;121.01494200000002
X-APPLE-STRUCTURED-LOCATION;VALUE=URI;X-ADDRESS=No. 2 Amorsolo St\, Legaspi
  Village\, Makati City\, NCR\, Philippines;X-APPLE-RADIUS=100;X-TITLE=Maka
 ti Medical Center:geo:14.559355,121.01494200000002
END:VEVENT
BEGIN:VTIMEZONE
TZID:Europe/Amsterdam
X-LIC-LOCATION:Europe/Amsterdam
BEGIN:STANDARD
DTSTART:20171029T020000
TZOFFSETFROM:+0200
TZOFFSETTO:+0100
TZNAME:CET
END:STANDARD
END:VTIMEZONE
END:VCALENDAR