BEGIN:VCALENDAR
VERSION:2.0
PRODID:-//wp-events-plugin.com//7.2.3.1//EN
TZID:Europe/Amsterdam
X-WR-TIMEZONE:Europe/Amsterdam
BEGIN:VEVENT
UID:1655@worldglaucomaweek.org
DTSTART;TZID=Europe/Amsterdam:20180331T070000
DTEND;TZID=Europe/Amsterdam:20180331T140000
DTSTAMP:20180215T065002Z
URL:https://www.worldglaucomaweek.org/activity/wgw-fun-run-screening/
SUMMARY:WGW FUN RUN &amp\; SCREENING
DESCRIPTION:
CATEGORIES:Public educational
LOCATION:KLINIK KESIHATAN KUALA LUMPUR\, JALAN TEMERLOH\, KUALA LUMPUR\, 53
 200\, Malaysia
GEO:3.174895;101.70960779999996
X-APPLE-STRUCTURED-LOCATION;VALUE=URI;X-ADDRESS=JALAN TEMERLOH\, KUALA LUMP
 UR\, 53200\, Malaysia;X-APPLE-RADIUS=100;X-TITLE=KLINIK KESIHATAN KUALA LU
 MPUR:geo:3.174895,101.70960779999996
END:VEVENT
BEGIN:VTIMEZONE
TZID:Europe/Amsterdam
X-LIC-LOCATION:Europe/Amsterdam
BEGIN:DAYLIGHT
DTSTART:20180325T030000
TZOFFSETFROM:+0100
TZOFFSETTO:+0200
TZNAME:CEST
END:DAYLIGHT
END:VTIMEZONE
END:VCALENDAR