BEGIN:VCALENDAR
VERSION:2.0
PRODID:-//wp-events-plugin.com//7.2.3.1//EN
TZID:Europe/Amsterdam
X-WR-TIMEZONE:Europe/Amsterdam
BEGIN:VEVENT
UID:1796@worldglaucomaweek.org
DTSTART;TZID=Europe/Amsterdam:20180311T000000
DTEND;TZID=Europe/Amsterdam:20180317T000000
DTSTAMP:20180302T225404Z
URL:https://www.worldglaucomaweek.org/activity/wgw-awareness-on-facebook/
SUMMARY:WGW Awareness on Facebook
DESCRIPTION:WGW awareness on facebook
CATEGORIES:Media coverage
LOCATION:MyPlace\, Hohit \, Ashkelon\, Israel\, 78702\, South\, Israel
GEO:31.6647494;34.57986040000003
X-APPLE-STRUCTURED-LOCATION;VALUE=URI;X-ADDRESS=Hohit \, Ashkelon\, Israel\
 , 78702\, South\, Israel;X-APPLE-RADIUS=100;X-TITLE=MyPlace:geo:31.6647494
 ,34.57986040000003
END:VEVENT
BEGIN:VTIMEZONE
TZID:Europe/Amsterdam
X-LIC-LOCATION:Europe/Amsterdam
BEGIN:STANDARD
DTSTART:20171029T020000
TZOFFSETFROM:+0200
TZOFFSETTO:+0100
TZNAME:CET
END:STANDARD
END:VTIMEZONE
END:VCALENDAR