BEGIN:VCALENDAR
VERSION:2.0
PRODID:-//wp-events-plugin.com//7.2.3.1//EN
TZID:Europe/Amsterdam
X-WR-TIMEZONE:Europe/Amsterdam
BEGIN:VEVENT
UID:1657@worldglaucomaweek.org
DTSTART;TZID=Europe/Amsterdam:20180317T160000
DTEND;TZID=Europe/Amsterdam:20180317T170000
DTSTAMP:20180328T164850Z
URL:https://www.worldglaucomaweek.org/activity/wgw-2018-together-we-can/
SUMMARY:WGW 2018: Together We Can!
DESCRIPTION:Go green with glaucoma education and complimentary screening!\n
 \nhttps://www.dailynews.co.th/article/634243\n\n\n\n\n\n\n\n
CATEGORIES:Screening event
LOCATION:Phyathai 1 Hospital\, 364/1  Si Ayutthaya Road\, Bangkok\, Ratchat
 hewi\, 10400\, Thailand
GEO:13.7561718;100.5392359
X-APPLE-STRUCTURED-LOCATION;VALUE=URI;X-ADDRESS=364/1  Si Ayutthaya Road\, 
 Bangkok\, Ratchathewi\, 10400\, Thailand;X-APPLE-RADIUS=100;X-TITLE=Phyath
 ai 1 Hospital:geo:13.7561718,100.5392359
END:VEVENT
BEGIN:VTIMEZONE
TZID:Europe/Amsterdam
X-LIC-LOCATION:Europe/Amsterdam
BEGIN:STANDARD
DTSTART:20171029T020000
TZOFFSETFROM:+0200
TZOFFSETTO:+0100
TZNAME:CET
END:STANDARD
END:VTIMEZONE
END:VCALENDAR