BEGIN:VCALENDAR
VERSION:2.0
PRODID:-//wp-events-plugin.com//7.2.3.1//EN
TZID:Europe/Amsterdam
X-WR-TIMEZONE:Europe/Amsterdam
BEGIN:VEVENT
UID:2603@worldglaucomaweek.org
DTSTART;TZID=Europe/Amsterdam:20190316T140000
DTEND;TZID=Europe/Amsterdam:20190316T153000
DTSTAMP:20190304T145129Z
URL:https://www.worldglaucomaweek.org/activity/wgw%ef%bc%9a%e3%80%80glauco
 ma-lecture-in-tokyo/
SUMMARY:WGW：　Glaucoma Lecture  in Tokyo
DESCRIPTION:
CATEGORIES:Public educational
END:VEVENT
BEGIN:VTIMEZONE
TZID:Europe/Amsterdam
X-LIC-LOCATION:Europe/Amsterdam
BEGIN:STANDARD
DTSTART:20181028T020000
TZOFFSETFROM:+0200
TZOFFSETTO:+0100
TZNAME:CET
END:STANDARD
END:VTIMEZONE
END:VCALENDAR