BEGIN:VCALENDAR
VERSION:2.0
PRODID:-//wp-events-plugin.com//7.2.3.1//EN
TZID:Europe/Amsterdam
X-WR-TIMEZONE:Europe/Amsterdam
BEGIN:VEVENT
UID:2786@worldglaucomaweek.org
DTSTART;TZID=Europe/Amsterdam:20190312T150000
DTEND;TZID=Europe/Amsterdam:20190312T160000
DTSTAMP:20190309T164534Z
URL:https://www.worldglaucomaweek.org/activity/webinar-glaucoma-surgery-ex
 plained/
SUMMARY:Webinar: Glaucoma Surgery Explained
DESCRIPTION:The ISGS\, a member society of WGA\, is hosting a webinar on gl
 aucoma surgery destined for patients during World Glaucoma Week. Learn ab
 out the efficacy and safety of glaucoma surgery from five leading speakers
  in the field. Click here to register for the webinar that takes place on 
 12 March 3:00 PM GMT: http://ow.ly/bHVO30nY5MY
ATTACH;FMTTYPE=image/jpeg:https://www.worldglaucomaweek.org/wp-content/upl
 oads/2019/03/53316622_1161867343981585_5103420646667321344_n.png
CATEGORIES:Public educational
END:VEVENT
BEGIN:VTIMEZONE
TZID:Europe/Amsterdam
X-LIC-LOCATION:Europe/Amsterdam
BEGIN:STANDARD
DTSTART:20181028T020000
TZOFFSETFROM:+0200
TZOFFSETTO:+0100
TZNAME:CET
END:STANDARD
END:VTIMEZONE
END:VCALENDAR