BEGIN:VCALENDAR
VERSION:2.0
PRODID:-//wp-events-plugin.com//7.2.3.1//EN
TZID:Europe/Amsterdam
X-WR-TIMEZONE:Europe/Amsterdam
BEGIN:VEVENT
UID:2364@worldglaucomaweek.org
DTSTART;TZID=Europe/Amsterdam:20190315T083000
DTEND;TZID=Europe/Amsterdam:20190315T163000
DTSTAMP:20190219T145751Z
URL:https://www.worldglaucomaweek.org/activity/vrijdag-15-maart-gratis-ops
 poring-in-het-umc-sint-pieter/
SUMMARY:Vrijdag 15 maart gratis opsporing in het UMC Sint-Pieter
DESCRIPTION:De dienst oftalmologie van het UMC Sint-Pieter organiseert vri
 jdag 15 maart van 8u.30 tot 16u.30 een gratis opsporingsdag op campus Hal
 lepoort- Raadpleging Oftalmologie - Route 204 (Wolstraat 105\, 1000 Brusse
 l). Voor deze raadpleging is geen afspraak vereist.\n\n&nbsp\;\n\nhttps://
 www.stpierre-bru.be/nl/actualiteit/glaucoom-vrijdag-15-maart-gratis-opspor
 ing?lng=nl
CATEGORIES:Media coverage
LOCATION:UMC Sint-Pieter Raadpleging Oftalmologie - Route 204\, Wolstraat 1
 05\, Brussel\, Brussel\, 1000\, Brussel\, Belgium
GEO:50.83422359999999;4.347245599999951
X-APPLE-STRUCTURED-LOCATION;VALUE=URI;X-ADDRESS=Wolstraat 105\, Brussel\, B
 russel\, 1000\, Brussel\, Belgium;X-APPLE-RADIUS=100;X-TITLE=UMC Sint-Piet
 er Raadpleging Oftalmologie - Route 204:geo:50.83422359999999,4.3472455999
 99951
END:VEVENT
BEGIN:VTIMEZONE
TZID:Europe/Amsterdam
X-LIC-LOCATION:Europe/Amsterdam
BEGIN:STANDARD
DTSTART:20181028T020000
TZOFFSETFROM:+0200
TZOFFSETTO:+0100
TZNAME:CET
END:STANDARD
END:VTIMEZONE
END:VCALENDAR