BEGIN:VCALENDAR
VERSION:2.0
PRODID:-//wp-events-plugin.com//7.2.3.1//EN
TZID:Europe/Amsterdam
X-WR-TIMEZONE:Europe/Amsterdam
BEGIN:VEVENT
UID:2357@worldglaucomaweek.org
DTSTART;TZID=Europe/Amsterdam:19700101T000000
DTEND;TZID=Europe/Amsterdam:19700101T000000
DTSTAMP:20190219T134724Z
URL:https://www.worldglaucomaweek.org/activity/visual-field-3/
SUMMARY:Visual Field
DESCRIPTION:Free Visual Field to patients and familiars suspected of glauco
 ma.
CATEGORIES:Screening event
LOCATION:Clínica Gómez Romeo\, Tucuman 334\, Godoy Cruz\, Mendoza\, 5501\
 , Argentina
GEO:-32.9077939;-68.84823499999999
X-APPLE-STRUCTURED-LOCATION;VALUE=URI;X-ADDRESS=Tucuman 334\, Godoy Cruz\, 
 Mendoza\, 5501\, Argentina;X-APPLE-RADIUS=100;X-TITLE=Clínica Gómez Rome
 o:geo:-32.9077939,-68.84823499999999
END:VEVENT
BEGIN:VTIMEZONE
TZID:Europe/Amsterdam
X-LIC-LOCATION:Europe/Amsterdam
BEGIN:STANDARD
DTSTART:19690101T000000
TZOFFSETFROM:+0100
TZOFFSETTO:+0100
TZNAME:CET
END:STANDARD
END:VTIMEZONE
END:VCALENDAR