BEGIN:VCALENDAR
VERSION:2.0
PRODID:-//wp-events-plugin.com//7.2.3.1//EN
TZID:Europe/Amsterdam
X-WR-TIMEZONE:Europe/Amsterdam
BEGIN:VEVENT
UID:2097@worldglaucomaweek.org
DTSTART;TZID=Europe/Amsterdam;VALUE=DATE:20180314
DTEND;TZID=Europe/Amsterdam;VALUE=DATE:20180315
DTSTAMP:20180312T114502Z
URL:https://www.worldglaucomaweek.org/activity/visual-field-2/
SUMMARY:Visual Field
DESCRIPTION:Campos visuales gratuitos a pacientes.
CATEGORIES:Screening event
LOCATION:Clinica Gomez Romeo\, Tucuman 334\, Godoy Cruz\, Argentina\, 5501\
 , Mendoza\, Argentina
GEO:-32.9077628;-68.84839640000001
X-APPLE-STRUCTURED-LOCATION;VALUE=URI;X-ADDRESS=Tucuman 334\, Godoy Cruz\, 
 Argentina\, 5501\, Mendoza\, Argentina;X-APPLE-RADIUS=100;X-TITLE=Clinica 
 Gomez Romeo:geo:-32.9077628,-68.84839640000001
END:VEVENT
BEGIN:VTIMEZONE
TZID:Europe/Amsterdam
X-LIC-LOCATION:Europe/Amsterdam
BEGIN:STANDARD
DTSTART:20171029T020000
TZOFFSETFROM:+0200
TZOFFSETTO:+0100
TZNAME:CET
END:STANDARD
END:VTIMEZONE
END:VCALENDAR