BEGIN:VCALENDAR
VERSION:2.0
PRODID:-//wp-events-plugin.com//7.2.3.1//EN
TZID:Europe/Amsterdam
X-WR-TIMEZONE:Europe/Amsterdam
BEGIN:VEVENT
UID:2686@worldglaucomaweek.org
DTSTART;TZID=Europe/Amsterdam:20190312T090000
DTEND;TZID=Europe/Amsterdam:20190314T180000
DTSTAMP:20190306T110647Z
URL:https://www.worldglaucomaweek.org/activity/village-du-glaucome-de-luna
 dev/
SUMMARY:Village du Glaucome de l'UNADEV
DESCRIPTION:Ouvert à tous et gratuit :\n\n 	Dépistage sans rendez-vous da
 ns le Bus du Glaucome de l’UNADEV\n 	Parcours avec cannes blanches\n 	Re
 ncontres avec des maîtres chiens-guides déficients visuels\n 	Ateliers p
 our découvrir le braille\n 	Démonstrations de Cécifoot\n 	Cécivoile\n 
 	Showdown (jeu de tennis de table dans le noir)\n
CATEGORIES:Public educational
LOCATION:Lyon\, Place Antonin Poncet\, LYON\, 69002\, France
GEO:45.7565245;4.834565200000043
X-APPLE-STRUCTURED-LOCATION;VALUE=URI;X-ADDRESS=Place Antonin Poncet\, LYON
 \, 69002\, France;X-APPLE-RADIUS=100;X-TITLE=Lyon:geo:45.7565245,4.8345652
 00000043
END:VEVENT
BEGIN:VTIMEZONE
TZID:Europe/Amsterdam
X-LIC-LOCATION:Europe/Amsterdam
BEGIN:STANDARD
DTSTART:20181028T020000
TZOFFSETFROM:+0200
TZOFFSETTO:+0100
TZNAME:CET
END:STANDARD
END:VTIMEZONE
END:VCALENDAR