BEGIN:VCALENDAR
VERSION:2.0
PRODID:-//wp-events-plugin.com//7.2.3.1//EN
TZID:Europe/Amsterdam
X-WR-TIMEZONE:Europe/Amsterdam
BEGIN:VEVENT
UID:1638@worldglaucomaweek.org
DTSTART;TZID=Europe/Amsterdam:20180209T000000
DTEND;TZID=Europe/Amsterdam:20180210T000000
DTSTAMP:20190201T143438Z
URL:https://www.worldglaucomaweek.org/activity/video-on-glaucoma-through-o
 ur-website-english-french-creole/
SUMMARY:video on glaucoma through our website English-French-Creole
DESCRIPTION:Access to free information on glaucoma via our website in Frenc
 h\, English and Creole.
ATTACH;FMTTYPE=image/jpeg:https://www.worldglaucomaweek.org/wp-content/upl
 oads/2018/02/Renaud-Kasner-Desharnais-videos320x240.jpg
CATEGORIES:Public educational
END:VEVENT
BEGIN:VTIMEZONE
TZID:Europe/Amsterdam
X-LIC-LOCATION:Europe/Amsterdam
BEGIN:STANDARD
DTSTART:20171029T020000
TZOFFSETFROM:+0200
TZOFFSETTO:+0100
TZNAME:CET
END:STANDARD
END:VTIMEZONE
END:VCALENDAR