BEGIN:VCALENDAR
VERSION:2.0
PRODID:-//wp-events-plugin.com//7.2.3.1//EN
TZID:Europe/Amsterdam
X-WR-TIMEZONE:Europe/Amsterdam
BEGIN:VEVENT
UID:2903@worldglaucomaweek.org
DTSTART;TZID=Europe/Amsterdam:20190314T090000
DTEND;TZID=Europe/Amsterdam:20190314T170000
DTSTAMP:20190313T050601Z
URL:https://www.worldglaucomaweek.org/activity/universiti-sains-malaysia-g
 laucoma-screening-event/
SUMMARY:Universiti Sains Malaysia : Glaucoma Screening Event
DESCRIPTION:World Glaucoma Week 2019\n\nEye and health screening event\n\n 
 	Glaucoma Screening : Visual acuity\, IOP test\, Fundus photo\n 	Glaucoma 
 posters\, pamphlet\, quiz\n 	 Health screening: BP\, Blood sugar test\, B
 MI\n\nCollaboration\n\n 	Department of Ophthalmology\, USM\n 	Eye-Communit
 y Engagement Program\, USM\n 	Persatuan Diabetes Malaysia\, USM\n 	Departm
 ent of Family Medicine\n 	Sultan Ismail Petra Mosque\n\nSponsorship\n\n 	A
 lKhathiri Restaurant\n 	Hannan Medicspa\n 	Pharmaceutical companies\n 	\n\
 n&nbsp\;
CATEGORIES:Screening event
LOCATION:Masjid Sultan Ismail Petra\, Jalan Kubang Kerian\, 16150\, Kota Bh
 aru\, Kubang Kerian\, Kelantan\, Malaysia\, KOTA BHARU\, KELANTAN\, 16150\
 , Malaysia
GEO:6.073638051109007;102.28043660740968
X-APPLE-STRUCTURED-LOCATION;VALUE=URI;X-ADDRESS=Jalan Kubang Kerian\, 16150
 \, Kota Bharu\, Kubang Kerian\, Kelantan\, Malaysia\, KOTA BHARU\, KELANTA
 N\, 16150\, Malaysia;X-APPLE-RADIUS=100;X-TITLE=Masjid Sultan Ismail Petra
 :geo:6.073638051109007,102.28043660740968
END:VEVENT
BEGIN:VTIMEZONE
TZID:Europe/Amsterdam
X-LIC-LOCATION:Europe/Amsterdam
BEGIN:STANDARD
DTSTART:20181028T020000
TZOFFSETFROM:+0200
TZOFFSETTO:+0100
TZNAME:CET
END:STANDARD
END:VTIMEZONE
END:VCALENDAR