BEGIN:VCALENDAR
VERSION:2.0
PRODID:-//wp-events-plugin.com//7.2.3.1//EN
TZID:Europe/Amsterdam
X-WR-TIMEZONE:Europe/Amsterdam
BEGIN:VEVENT
UID:1733@worldglaucomaweek.org
DTSTART;TZID=Europe/Amsterdam:20180312T090000
DTEND;TZID=Europe/Amsterdam:20180312T113000
DTSTAMP:20180313T205547Z
URL:https://www.worldglaucomaweek.org/activity/understanding-glaucoma-lect
 ure-for-glaucoma-patients-7/
SUMMARY:Understanding Glaucoma: Lecture for Glaucoma patients
DESCRIPTION:Patients and relatives will be invited (through phone calls or 
 email) for the lecture. Glaucoma fellows will be responsible for teaching 
 them about glaucomas\, risk factors\, how to prevent\, treatment\, manners
  on putting the drops in\, eyedrops expected reactions\, laser option\, su
 rgeries and why people go blind due to glaucoma.\n\nThere will be served b
 reakfast before the lecture for those attending.
ATTACH;FMTTYPE=image/jpeg:https://www.worldglaucomaweek.org/wp-content/upl
 oads/2018/02/teste-1200.jpg
CATEGORIES:Public educational
LOCATION:Hospital Centro Oftalmologico de Minas Gerais\, 941 santa catarina
  st\, Belo Horizonte\, minas gerais\, 30180-070\, lourdes\, Brazil
GEO:-19.928978;-43.945223999999996
X-APPLE-STRUCTURED-LOCATION;VALUE=URI;X-ADDRESS=941 santa catarina st\, Bel
 o Horizonte\, minas gerais\, 30180-070\, lourdes\, Brazil;X-APPLE-RADIUS=1
 00;X-TITLE=Hospital Centro Oftalmologico de Minas Gerais:geo:-19.928978,-4
 3.945223999999996
END:VEVENT
BEGIN:VTIMEZONE
TZID:Europe/Amsterdam
X-LIC-LOCATION:Europe/Amsterdam
BEGIN:STANDARD
DTSTART:20171029T020000
TZOFFSETFROM:+0200
TZOFFSETTO:+0100
TZNAME:CET
END:STANDARD
END:VTIMEZONE
END:VCALENDAR