BEGIN:VCALENDAR
VERSION:2.0
PRODID:-//wp-events-plugin.com//7.2.3.1//EN
TZID:Europe/Amsterdam
X-WR-TIMEZONE:Europe/Amsterdam
BEGIN:VEVENT
UID:1707@worldglaucomaweek.org
DTSTART;TZID=Europe/Amsterdam:20180314T160000
DTEND;TZID=Europe/Amsterdam:20180314T160000
DTSTAMP:20180221T063217Z
URL:https://www.worldglaucomaweek.org/activity/understanding-glaucoma-lect
 ure-for-glaucoma-patients-6/
SUMMARY:Understanding Glaucoma: Lecture for Glaucoma Patients
DESCRIPTION:Understanding Glaucoma: Lecture for Glaucoma Patients
CATEGORIES:Public educational
LOCATION:Chonnam National University Hospital\, Chonnam National University
  Hospital\, Gwangju\, South Korea
GEO:35.14191;126.92167799999993
X-APPLE-STRUCTURED-LOCATION;VALUE=URI;X-ADDRESS=Chonnam National University
  Hospital\, Gwangju\, South Korea;X-APPLE-RADIUS=100;X-TITLE=Chonnam Natio
 nal University Hospital:geo:35.14191,126.92167799999993
END:VEVENT
BEGIN:VTIMEZONE
TZID:Europe/Amsterdam
X-LIC-LOCATION:Europe/Amsterdam
BEGIN:STANDARD
DTSTART:20171029T020000
TZOFFSETFROM:+0200
TZOFFSETTO:+0100
TZNAME:CET
END:STANDARD
END:VTIMEZONE
END:VCALENDAR