BEGIN:VCALENDAR
VERSION:2.0
PRODID:-//wp-events-plugin.com//7.2.3.1//EN
TZID:Europe/Amsterdam
X-WR-TIMEZONE:Europe/Amsterdam
BEGIN:VEVENT
UID:1696@worldglaucomaweek.org
DTSTART;TZID=Europe/Amsterdam:20180313T113000
DTEND;TZID=Europe/Amsterdam:20180313T113000
DTSTAMP:20180220T032948Z
URL:https://www.worldglaucomaweek.org/activity/understanding-glaucoma-lect
 ure-for-glaucoma-patients-4/
SUMMARY:Understanding Glaucoma: Lecture for Glaucoma Patients
DESCRIPTION:Understanding Glaucoma: Lecture for Glaucoma Patients
CATEGORIES:Public educational
LOCATION:Yeouido St. Mary's Hospital\, 10\, 63-ro\, Yeongdeungpo-gu\, Seoul
 \, South Korea
GEO:37.5179713;126.93608900000004
X-APPLE-STRUCTURED-LOCATION;VALUE=URI;X-ADDRESS=10\, 63-ro\, Yeongdeungpo-g
 u\, Seoul\, South Korea;X-APPLE-RADIUS=100;X-TITLE=Yeouido St. Mary's Hosp
 ital:geo:37.5179713,126.93608900000004
END:VEVENT
BEGIN:VTIMEZONE
TZID:Europe/Amsterdam
X-LIC-LOCATION:Europe/Amsterdam
BEGIN:STANDARD
DTSTART:20171029T020000
TZOFFSETFROM:+0200
TZOFFSETTO:+0100
TZNAME:CET
END:STANDARD
END:VTIMEZONE
END:VCALENDAR