BEGIN:VCALENDAR
VERSION:2.0
PRODID:-//wp-events-plugin.com//7.2.3.1//EN
TZID:Europe/Amsterdam
X-WR-TIMEZONE:Europe/Amsterdam
BEGIN:VEVENT
UID:2878@worldglaucomaweek.org
DTSTART;TZID=Europe/Amsterdam;VALUE=DATE:20190312
DTEND;TZID=Europe/Amsterdam;VALUE=DATE:20190317
DTSTAMP:20190312T111735Z
URL:https://www.worldglaucomaweek.org/activity/tv-programm-and-whole-week-
 educational-activity-in-kaunas-city-center-lecturing-about-glaucoma-distri
 buting-leaflets-and-brochures/
SUMMARY:TV programm and whole week educational activity in Kaunas city cent
 er - lecturing about glaucoma\, distributing leaflets and brochures
DESCRIPTION:https://www.facebook.com/100003912346279/posts/1329037380569994
 ?sfns=mo
CATEGORIES:Public educational
LOCATION:Lithuania\, Eiveniu str 2\, Kaunas\, Lithuania\, 50009\, Lithuania
GEO:54.917744;23.921925999999985
X-APPLE-STRUCTURED-LOCATION;VALUE=URI;X-ADDRESS=Eiveniu str 2\, Kaunas\, Li
 thuania\, 50009\, Lithuania;X-APPLE-RADIUS=100;X-TITLE=Lithuania:geo:54.91
 7744,23.921925999999985
END:VEVENT
BEGIN:VTIMEZONE
TZID:Europe/Amsterdam
X-LIC-LOCATION:Europe/Amsterdam
BEGIN:STANDARD
DTSTART:20181028T020000
TZOFFSETFROM:+0200
TZOFFSETTO:+0100
TZNAME:CET
END:STANDARD
END:VTIMEZONE
END:VCALENDAR