BEGIN:VCALENDAR
VERSION:2.0
PRODID:-//wp-events-plugin.com//7.2.3.1//EN
TZID:Europe/Amsterdam
X-WR-TIMEZONE:Europe/Amsterdam
BEGIN:VEVENT
UID:2963@worldglaucomaweek.org
DTSTART;TZID=Europe/Amsterdam:20190224T080000
DTEND;TZID=Europe/Amsterdam:20190224T083000
DTSTAMP:20190316T172855Z
URL:https://www.worldglaucomaweek.org/activity/tv-interview-2/
SUMMARY:TV interview
DESCRIPTION:
CATEGORIES:Media coverage
LOCATION:Kanal 3\, Kanal 3\, Sofia\, bulgaria\, Bulgaria
GEO:42.6905068;23.292429500000026
X-APPLE-STRUCTURED-LOCATION;VALUE=URI;X-ADDRESS=Kanal 3\, Sofia\, bulgaria\
 , Bulgaria;X-APPLE-RADIUS=100;X-TITLE=Kanal 3:geo:42.6905068,23.2924295000
 00026
END:VEVENT
BEGIN:VTIMEZONE
TZID:Europe/Amsterdam
X-LIC-LOCATION:Europe/Amsterdam
BEGIN:STANDARD
DTSTART:20181028T020000
TZOFFSETFROM:+0200
TZOFFSETTO:+0100
TZNAME:CET
END:STANDARD
END:VTIMEZONE
END:VCALENDAR