BEGIN:VCALENDAR
VERSION:2.0
PRODID:-//wp-events-plugin.com//7.2.3.1//EN
TZID:Europe/Amsterdam
X-WR-TIMEZONE:Europe/Amsterdam
BEGIN:VEVENT
UID:2027@worldglaucomaweek.org
DTSTART;TZID=Europe/Amsterdam:20180311T000000
DTEND;TZID=Europe/Amsterdam:20180320T000000
DTSTAMP:20180309T203105Z
URL:https://www.worldglaucomaweek.org/activity/turkish-ophthalmological-as
 sociation-glaucoma-society-glaucoma-awareness-movie/
SUMMARY:Turkish Ophthalmological Association Glaucoma Society glaucoma awar
 eness movie
DESCRIPTION:[video width="640" height="352" mp4="https://www.worldglaucomaw
 eek.org/wp-content/uploads/2018/03/GLOKOM_KAMU_SPOTU_ENG_ALTYAZI.mp4"][/vi
 deo][video width="640" height="352" mp4="https://www.worldglaucomaweek.org
 /wp-content/uploads/2018/03/GLOKOM_KAMU_SPOTU_ENG_ALTYAZI.mp4"][/video]
CATEGORIES:Public educational
END:VEVENT
BEGIN:VTIMEZONE
TZID:Europe/Amsterdam
X-LIC-LOCATION:Europe/Amsterdam
BEGIN:STANDARD
DTSTART:20171029T020000
TZOFFSETFROM:+0200
TZOFFSETTO:+0100
TZNAME:CET
END:STANDARD
END:VTIMEZONE
END:VCALENDAR