BEGIN:VCALENDAR
VERSION:2.0
PRODID:-//wp-events-plugin.com//7.2.3.1//EN
TZID:Europe/Amsterdam
X-WR-TIMEZONE:Europe/Amsterdam
BEGIN:VEVENT
UID:2883@worldglaucomaweek.org
DTSTART;TZID=Europe/Amsterdam:20190312T090000
DTEND;TZID=Europe/Amsterdam:20190312T103000
DTSTAMP:20190312T141553Z
URL:https://www.worldglaucomaweek.org/activity/trabeculectomy-for-wgw/
SUMMARY:Trabeculectomy for WGW
DESCRIPTION:
CATEGORIES:Other
LOCATION:Angeles Medical Center\, Rizal St.\, Angeles City\, Philippines
GEO:15.1408959;120.58891349999999
X-APPLE-STRUCTURED-LOCATION;VALUE=URI;X-ADDRESS=Rizal St.\, Angeles City\, 
 Philippines;X-APPLE-RADIUS=100;X-TITLE=Angeles Medical Center:geo:15.14089
 59,120.58891349999999
END:VEVENT
BEGIN:VTIMEZONE
TZID:Europe/Amsterdam
X-LIC-LOCATION:Europe/Amsterdam
BEGIN:STANDARD
DTSTART:20181028T020000
TZOFFSETFROM:+0200
TZOFFSETTO:+0100
TZNAME:CET
END:STANDARD
END:VTIMEZONE
END:VCALENDAR