BEGIN:VCALENDAR
VERSION:2.0
PRODID:-//wp-events-plugin.com//7.2.3.1//EN
TZID:Europe/Amsterdam
X-WR-TIMEZONE:Europe/Amsterdam
BEGIN:VEVENT
UID:319@worldglaucomaweek.org
DTSTART;TZID=Europe/Amsterdam:20150306T000000
DTEND;TZID=Europe/Amsterdam:20150306T000000
DTSTAMP:20150306T023757Z
URL:https://www.worldglaucomaweek.org/activity/thai-glaucoma-society-campa
 igning-for-glaucoma-awareness-2/
SUMMARY:Thai Glaucoma Society campaigning for Glaucoma awareness
DESCRIPTION:Thai Glaucoma Society has launched the Glaucoma awareness campa
 ign through social media.\n\nThe VDO clip shows how glaucoma affects your
  loved ones and how well we should take care of them.\n\nEnglish and Chine
 se subtitles are also provided with hope that this clip can connect to eve
 ryone.\n\nhttps://www.youtube.com/watch?v=cFrz07HLBdk
ATTACH;FMTTYPE=image/jpeg:https://www.worldglaucomaweek.org/wp-content/upl
 oads/2015/03/ภาพหน้าจอ-2015-03-05-16.54.291.png
CATEGORIES:Media coverage
LOCATION:King Chulalongkorn Memorial Hospital\, 1873 Rama 4 Rd\, Bangkok\, 
 10330\, Thailand
GEO:13.7308713;100.53554740000004
X-APPLE-STRUCTURED-LOCATION;VALUE=URI;X-ADDRESS=1873 Rama 4 Rd\, Bangkok\, 
 10330\, Thailand;X-APPLE-RADIUS=100;X-TITLE=King Chulalongkorn Memorial Ho
 spital:geo:13.7308713,100.53554740000004
END:VEVENT
BEGIN:VTIMEZONE
TZID:Europe/Amsterdam
X-LIC-LOCATION:Europe/Amsterdam
BEGIN:STANDARD
DTSTART:20141026T020000
TZOFFSETFROM:+0200
TZOFFSETTO:+0100
TZNAME:CET
END:STANDARD
END:VTIMEZONE
END:VCALENDAR